BEGIN:VCALENDAR
VERSION:2.0
PRODID:-//Flora Public Library - ECPv6.13.2.1//NONSGML v1.0//EN
CALSCALE:GREGORIAN
METHOD:PUBLISH
X-ORIGINAL-URL:https://florapubliclibrary.org
X-WR-CALDESC:Events for Flora Public Library
REFRESH-INTERVAL;VALUE=DURATION:PT1H
X-Robots-Tag:noindex
X-PUBLISHED-TTL:PT1H
BEGIN:VTIMEZONE
TZID:America/Chicago
BEGIN:DAYLIGHT
TZOFFSETFROM:-0600
TZOFFSETTO:-0500
TZNAME:CDT
DTSTART:20230312T080000
END:DAYLIGHT
BEGIN:STANDARD
TZOFFSETFROM:-0500
TZOFFSETTO:-0600
TZNAME:CST
DTSTART:20231105T070000
END:STANDARD
END:VTIMEZONE
BEGIN:VEVENT
DTSTART;TZID=America/Chicago:20230601T100000
DTEND;TZID=America/Chicago:20230601T113000
DTSTAMP:20260422T050349
CREATED:20230504T200645Z
LAST-MODIFIED:20230525T180310Z
UID:10000083-1685613600-1685619000@florapubliclibrary.org
SUMMARY:The Whip Guy
DESCRIPTION:The Whip Guy program will be at the Flora Public Library on June 1st at 10am \nChris’ upbeat\, high-energy show is filled with stunts\, history\, physics\, lots of great whip cracking and jokes that are just so-so. In the tradition of Vaudeville\, Circus and Wild West entertainment\, Chris’ show is filled with thrilling entertainment that keeps the audience captivated\, involved and wondering what will happen next.
URL:https://florapubliclibrary.org/event/the-whip-guy/
LOCATION:Flora Public Library\, 216 N. Main St.\, Flora\, IL\, 62839\, United States
CATEGORIES:Community Events
ATTACH;FMTTYPE=image/png:https://florapubliclibrary.org/wp-content/uploads/2023/05/Event_WhipGuy.png
END:VEVENT
BEGIN:VEVENT
DTSTART;TZID=America/Chicago:20230609T100000
DTEND;TZID=America/Chicago:20230609T110000
DTSTAMP:20260422T050349
CREATED:20230525T180617Z
LAST-MODIFIED:20230525T180648Z
UID:10000085-1686304800-1686308400@florapubliclibrary.org
SUMMARY:Mommy and Me Story Hour Program
DESCRIPTION:Join us at the Library on June 9th from 10am-11am for a Mommy and Me Story Hour program📚! \nThis month our theme is Summer Time! We will read The Very Hungry Caterpillar and The Very Hungry Caterpillar’s First Summer\, make fuzzy caterpillars 🐛 and colorful butterflies 🦋 during craft time\, and weather permitting\, have playtime outside with sidewalk chalk\, bubbles\, and moon sand. Fathers and grandparents are also welcome to bring their children. Come and join us for some summer fun! \nRegistration Required. Register online or phone
URL:https://florapubliclibrary.org/event/mommy-and-me-story-hour-program/
LOCATION:Flora Public Library\, 216 N. Main St.\, Flora\, IL\, 62839\, United States
CATEGORIES:Community Events
ATTACH;FMTTYPE=image/png:https://florapubliclibrary.org/wp-content/uploads/2023/05/Artboard-3-1.png
END:VEVENT
BEGIN:VEVENT
DTSTART;TZID=America/Chicago:20230613T140000
DTEND;TZID=America/Chicago:20230613T170000
DTSTAMP:20260422T050349
CREATED:20230525T180830Z
LAST-MODIFIED:20230525T180830Z
UID:10000086-1686664800-1686675600@florapubliclibrary.org
SUMMARY:Camp Fire Stories
DESCRIPTION:Since the beginning of time\, people around the world have gathered around the campfire and used their voices to entertain\, teach lessons\, and share history. Join Douglas Hart Nature Center and the Flora Public Library on June 13th at 2pm to learn stories from around the world and the real-life animals that inspire them. \nCraft and live animal experience included! \nSponsored in part by Friends of the Library.
URL:https://florapubliclibrary.org/event/camp-fire-stories/
LOCATION:Flora Public Library\, 216 N. Main St.\, Flora\, IL\, 62839\, United States
CATEGORIES:Community Events
ATTACH;FMTTYPE=image/png:https://florapubliclibrary.org/wp-content/uploads/2023/05/Artboard-2.png
END:VEVENT
BEGIN:VEVENT
DTSTART;TZID=America/Chicago:20230619T133000
DTEND;TZID=America/Chicago:20230619T153000
DTSTAMP:20260422T050349
CREATED:20230525T181003Z
LAST-MODIFIED:20230525T181003Z
UID:10000087-1687181400-1687188600@florapubliclibrary.org
SUMMARY:Mad Science
DESCRIPTION:@madsciencestlouis will be coming to the Flora Public Library on June 19th at 1:30 for a fun science program “Sounds Like Science” 🧪⚛️ as part of the Summer Reading Program.\nBe sure to bring the kids to this!
URL:https://florapubliclibrary.org/event/mad-science/
LOCATION:Flora Public Library\, 216 N. Main St.\, Flora\, IL\, 62839\, United States
CATEGORIES:Community Events
ATTACH;FMTTYPE=image/png:https://florapubliclibrary.org/wp-content/uploads/2023/05/Artboard-5.png
END:VEVENT
BEGIN:VEVENT
DTSTART;TZID=America/Chicago:20230623T100000
DTEND;TZID=America/Chicago:20230623T180000
DTSTAMP:20260422T050349
CREATED:20230612T190627Z
LAST-MODIFIED:20230620T161120Z
UID:10000093-1687514400-1687543200@florapubliclibrary.org
SUMMARY:Food Truck Fundraising Event
DESCRIPTION:Be sure to stop by the Flora Library parking lot on June 23rd from 10am-6pm for The Fair Lady!\nThey will be here selling treats and 25% of the total sales and tips will be donated back to the library!
URL:https://florapubliclibrary.org/event/food-truck-fundraising-event/
LOCATION:Flora Public Library\, 216 N. Main St.\, Flora\, IL\, 62839\, United States
CATEGORIES:Community Events
ATTACH;FMTTYPE=image/png:https://florapubliclibrary.org/wp-content/uploads/2023/06/Artboard-7.png
END:VEVENT
BEGIN:VEVENT
DTSTART;TZID=America/Chicago:20230626T140000
DTEND;TZID=America/Chicago:20230626T190000
DTSTAMP:20260422T050349
CREATED:20230525T181224Z
LAST-MODIFIED:20230525T181224Z
UID:10000088-1687788000-1687806000@florapubliclibrary.org
SUMMARY:Harry Potter Escape Room
DESCRIPTION:Join us at the Library for a Harry Potter-themed Escape Room June 26th-30th 🔎🧙🏼🧹! \nHelp Rowena Ravenclaw find the Horcrux before time runs out!! \nEach team will have 45 minutes to find the clues and retrieve the Horcrux; the fastest team will receive a grand prize! \nCall the Flora Public Library at 618-662-6553 to reserve your team’s date and time \nTime slots will be available from 2pm-7pm. Each team must have 4-6 people\, team name\, and contact number when reserving your day and time.
URL:https://florapubliclibrary.org/event/harry-potter-escape-room/2023-06-26/
LOCATION:Flora Public Library\, 216 N. Main St.\, Flora\, IL\, 62839\, United States
CATEGORIES:Community Events
ATTACH;FMTTYPE=image/png:https://florapubliclibrary.org/wp-content/uploads/2023/05/Artboard-6.png
END:VEVENT
BEGIN:VEVENT
DTSTART;TZID=America/Chicago:20230627T140000
DTEND;TZID=America/Chicago:20230627T190000
DTSTAMP:20260422T050349
CREATED:20230525T181224Z
LAST-MODIFIED:20230525T181224Z
UID:10000089-1687874400-1687892400@florapubliclibrary.org
SUMMARY:Harry Potter Escape Room
DESCRIPTION:Join us at the Library for a Harry Potter-themed Escape Room June 26th-30th 🔎🧙🏼🧹! \nHelp Rowena Ravenclaw find the Horcrux before time runs out!! \nEach team will have 45 minutes to find the clues and retrieve the Horcrux; the fastest team will receive a grand prize! \nCall the Flora Public Library at 618-662-6553 to reserve your team’s date and time \nTime slots will be available from 2pm-7pm. Each team must have 4-6 people\, team name\, and contact number when reserving your day and time.
URL:https://florapubliclibrary.org/event/harry-potter-escape-room/2023-06-27/
LOCATION:Flora Public Library\, 216 N. Main St.\, Flora\, IL\, 62839\, United States
CATEGORIES:Community Events
ATTACH;FMTTYPE=image/png:https://florapubliclibrary.org/wp-content/uploads/2023/05/Artboard-6.png
END:VEVENT
BEGIN:VEVENT
DTSTART;TZID=America/Chicago:20230628T140000
DTEND;TZID=America/Chicago:20230628T190000
DTSTAMP:20260422T050349
CREATED:20230525T181224Z
LAST-MODIFIED:20230525T181224Z
UID:10000090-1687960800-1687978800@florapubliclibrary.org
SUMMARY:Harry Potter Escape Room
DESCRIPTION:Join us at the Library for a Harry Potter-themed Escape Room June 26th-30th 🔎🧙🏼🧹! \nHelp Rowena Ravenclaw find the Horcrux before time runs out!! \nEach team will have 45 minutes to find the clues and retrieve the Horcrux; the fastest team will receive a grand prize! \nCall the Flora Public Library at 618-662-6553 to reserve your team’s date and time \nTime slots will be available from 2pm-7pm. Each team must have 4-6 people\, team name\, and contact number when reserving your day and time.
URL:https://florapubliclibrary.org/event/harry-potter-escape-room/2023-06-28/
LOCATION:Flora Public Library\, 216 N. Main St.\, Flora\, IL\, 62839\, United States
CATEGORIES:Community Events
ATTACH;FMTTYPE=image/png:https://florapubliclibrary.org/wp-content/uploads/2023/05/Artboard-6.png
END:VEVENT
BEGIN:VEVENT
DTSTART;TZID=America/Chicago:20230629T140000
DTEND;TZID=America/Chicago:20230629T190000
DTSTAMP:20260422T050349
CREATED:20230525T181224Z
LAST-MODIFIED:20230525T181224Z
UID:10000091-1688047200-1688065200@florapubliclibrary.org
SUMMARY:Harry Potter Escape Room
DESCRIPTION:Join us at the Library for a Harry Potter-themed Escape Room June 26th-30th 🔎🧙🏼🧹! \nHelp Rowena Ravenclaw find the Horcrux before time runs out!! \nEach team will have 45 minutes to find the clues and retrieve the Horcrux; the fastest team will receive a grand prize! \nCall the Flora Public Library at 618-662-6553 to reserve your team’s date and time \nTime slots will be available from 2pm-7pm. Each team must have 4-6 people\, team name\, and contact number when reserving your day and time.
URL:https://florapubliclibrary.org/event/harry-potter-escape-room/2023-06-29/
LOCATION:Flora Public Library\, 216 N. Main St.\, Flora\, IL\, 62839\, United States
CATEGORIES:Community Events
ATTACH;FMTTYPE=image/png:https://florapubliclibrary.org/wp-content/uploads/2023/05/Artboard-6.png
END:VEVENT
BEGIN:VEVENT
DTSTART;TZID=America/Chicago:20230630T140000
DTEND;TZID=America/Chicago:20230630T190000
DTSTAMP:20260422T050349
CREATED:20230525T181224Z
LAST-MODIFIED:20230525T181224Z
UID:10000092-1688133600-1688151600@florapubliclibrary.org
SUMMARY:Harry Potter Escape Room
DESCRIPTION:Join us at the Library for a Harry Potter-themed Escape Room June 26th-30th 🔎🧙🏼🧹! \nHelp Rowena Ravenclaw find the Horcrux before time runs out!! \nEach team will have 45 minutes to find the clues and retrieve the Horcrux; the fastest team will receive a grand prize! \nCall the Flora Public Library at 618-662-6553 to reserve your team’s date and time \nTime slots will be available from 2pm-7pm. Each team must have 4-6 people\, team name\, and contact number when reserving your day and time.
URL:https://florapubliclibrary.org/event/harry-potter-escape-room/2023-06-30/
LOCATION:Flora Public Library\, 216 N. Main St.\, Flora\, IL\, 62839\, United States
CATEGORIES:Community Events
ATTACH;FMTTYPE=image/png:https://florapubliclibrary.org/wp-content/uploads/2023/05/Artboard-6.png
END:VEVENT
END:VCALENDAR