BEGIN:VCALENDAR
VERSION:2.0
PRODID:-//Flora Public Library - ECPv6.13.2.1//NONSGML v1.0//EN
CALSCALE:GREGORIAN
METHOD:PUBLISH
X-ORIGINAL-URL:https://florapubliclibrary.org
X-WR-CALDESC:Events for Flora Public Library
REFRESH-INTERVAL;VALUE=DURATION:PT1H
X-Robots-Tag:noindex
X-PUBLISHED-TTL:PT1H
BEGIN:VTIMEZONE
TZID:America/Chicago
BEGIN:DAYLIGHT
TZOFFSETFROM:-0600
TZOFFSETTO:-0500
TZNAME:CDT
DTSTART:20230312T080000
END:DAYLIGHT
BEGIN:STANDARD
TZOFFSETFROM:-0500
TZOFFSETTO:-0600
TZNAME:CST
DTSTART:20231105T070000
END:STANDARD
END:VTIMEZONE
BEGIN:VEVENT
DTSTART;TZID=America/Chicago:20230908T100000
DTEND;TZID=America/Chicago:20230908T110000
DTSTAMP:20260422T011257
CREATED:20230828T175454Z
LAST-MODIFIED:20230828T175812Z
UID:10000468-1694167200-1694170800@florapubliclibrary.org
SUMMARY:Mommy & Me
DESCRIPTION:This month our theme is Apples Galore 🍎🍏! \nWe will read Ten Apples Up On Top and Tucker’s Apple Dandy Day\, make an apple-themed craft\, and have playtime! \nFathers and grandparents are also welcome to bring their children. Come and join us for some summer fun! \nRegistration Required
URL:https://florapubliclibrary.org/event/mommy-me/
LOCATION:Flora Public Library\, 216 N. Main St.\, Flora\, IL\, 62839\, United States
CATEGORIES:Community Events
ATTACH;FMTTYPE=image/png:https://florapubliclibrary.org/wp-content/uploads/2023/08/MommyMeEvent.png
END:VEVENT
END:VCALENDAR