BEGIN:VCALENDAR
VERSION:2.0
PRODID:-//Flora Public Library - ECPv6.13.2.1//NONSGML v1.0//EN
CALSCALE:GREGORIAN
METHOD:PUBLISH
X-ORIGINAL-URL:https://florapubliclibrary.org
X-WR-CALDESC:Events for Flora Public Library
REFRESH-INTERVAL;VALUE=DURATION:PT1H
X-Robots-Tag:noindex
X-PUBLISHED-TTL:PT1H
BEGIN:VTIMEZONE
TZID:America/Chicago
BEGIN:DAYLIGHT
TZOFFSETFROM:-0600
TZOFFSETTO:-0500
TZNAME:CDT
DTSTART:20230312T080000
END:DAYLIGHT
BEGIN:STANDARD
TZOFFSETFROM:-0500
TZOFFSETTO:-0600
TZNAME:CST
DTSTART:20231105T070000
END:STANDARD
BEGIN:DAYLIGHT
TZOFFSETFROM:-0600
TZOFFSETTO:-0500
TZNAME:CDT
DTSTART:20240310T080000
END:DAYLIGHT
BEGIN:STANDARD
TZOFFSETFROM:-0500
TZOFFSETTO:-0600
TZNAME:CST
DTSTART:20241103T070000
END:STANDARD
BEGIN:DAYLIGHT
TZOFFSETFROM:-0600
TZOFFSETTO:-0500
TZNAME:CDT
DTSTART:20250309T080000
END:DAYLIGHT
BEGIN:STANDARD
TZOFFSETFROM:-0500
TZOFFSETTO:-0600
TZNAME:CST
DTSTART:20251102T070000
END:STANDARD
BEGIN:DAYLIGHT
TZOFFSETFROM:-0600
TZOFFSETTO:-0500
TZNAME:CDT
DTSTART:20260308T080000
END:DAYLIGHT
BEGIN:STANDARD
TZOFFSETFROM:-0500
TZOFFSETTO:-0600
TZNAME:CST
DTSTART:20261101T070000
END:STANDARD
END:VTIMEZONE
BEGIN:VEVENT
DTSTART;TZID=America/Chicago:20230707T140000
DTEND;TZID=America/Chicago:20230707T190000
DTSTAMP:20260422T173138
CREATED:20230630T201815Z
LAST-MODIFIED:20230706T202721Z
UID:10000098-1688738400-1688756400@florapubliclibrary.org
SUMMARY:Harry Potter Escape Room
DESCRIPTION:If you missed the first round of our Harry Potter escape room\, you’re in luck! \nWe will be having round two July 5th-8th 🔎🧙🏻🧹!Help Rowena Ravenclaw find the Horcrux before time runs out!! \nEach team will have 45 minutes to find the clues and retrieve the Horcrux; the fastest team will receive a grand prize!Call the Flora Public Library at 618-662-6553 to reserve your team’s date and time\nTime slots will be available from 2pm-7pm. Each team must have 4-6 people\, team name\, and contact number when reserving your day and time.
URL:https://florapubliclibrary.org/event/harry-potter-escape-room-2/2023-07-07/
LOCATION:Flora Public Library\, 216 N. Main St.\, Flora\, IL\, 62839\, United States
CATEGORIES:Community Events
ATTACH;FMTTYPE=image/png:https://florapubliclibrary.org/wp-content/uploads/2023/06/harrypotter.png
END:VEVENT
BEGIN:VEVENT
DTSTART;TZID=America/Chicago:20230711T140000
DTEND;TZID=America/Chicago:20230711T160000
DTSTAMP:20260422T173138
CREATED:20230627T162333Z
LAST-MODIFIED:20230627T162333Z
UID:10000094-1689084000-1689091200@florapubliclibrary.org
SUMMARY:Silly Safari Animal Show
DESCRIPTION:Calling all animal lovers 🐢🦉🐜! \nJoin us for a Silly Safari LIVE Animal Show at the Flora Public Library on Tuesday\, July 11th at 2pm. This interactive show will feature a variety of animals\, including mammals\, amphibians\, reptiles\, birds\, bugs\, and more! Kids will learn about the animals’ natural habitats\, diets\, and behaviors.\nA library card is not required to attend! \nSponsored by Friends of the Library
URL:https://florapubliclibrary.org/event/silly-safari-animal-show/
LOCATION:Flora Public Library\, 216 N. Main St.\, Flora\, IL\, 62839\, United States
CATEGORIES:Community Events
ATTACH;FMTTYPE=image/png:https://florapubliclibrary.org/wp-content/uploads/2023/06/Silly-Safari.png
END:VEVENT
BEGIN:VEVENT
DTSTART;TZID=America/Chicago:20230714T100000
DTEND;TZID=America/Chicago:20230714T110000
DTSTAMP:20260422T173138
CREATED:20230627T162546Z
LAST-MODIFIED:20230627T162546Z
UID:10000095-1689328800-1689332400@florapubliclibrary.org
SUMMARY:Mommy and Me Story Hour Program
DESCRIPTION:Join us at the Library on July 14th from 10am-11am for a Mommy and Me Story Hour program 📚! \nThis month our theme is Happy Birthday\, USA  🥳 🇺🇸! \nWe will read Biscuit’s Fourth of July\, make a fun and colorful fireworks painting during craft time 🎆\, and have playtime! \nFathers and grandparents are also welcome to bring their children. Come and join us for some summer fun! \nRegistration Required.
URL:https://florapubliclibrary.org/event/mommy-and-me-story-hour-program-2/
LOCATION:Flora Public Library\, 216 N. Main St.\, Flora\, IL\, 62839\, United States
CATEGORIES:Community Events
ATTACH;FMTTYPE=image/png:https://florapubliclibrary.org/wp-content/uploads/2023/06/Story-Hour.png
END:VEVENT
BEGIN:VEVENT
DTSTART;TZID=America/Chicago:20230722T150000
DTEND;TZID=America/Chicago:20230722T170000
DTSTAMP:20260422T173138
CREATED:20230705T134223Z
LAST-MODIFIED:20230705T134223Z
UID:10000466-1690038000-1690045200@florapubliclibrary.org
SUMMARY:Donna Corry's Retirement Party
DESCRIPTION:After 48 years\, a new library building project\, many employees\, and thousands of patrons later\, library director\,  Donna L. Corry has decided to retire. The library board of trustees and staff are planning a retirement party for Donna on Saturday\, July 22nd from 3pm to 5pm. Everyone is welcome to attend. Donna’s last official day is August 31st. We hope to see you there! 🥳
URL:https://florapubliclibrary.org/event/donna-corrys-retirement-party/
LOCATION:Flora Public Library\, 216 N. Main St.\, Flora\, IL\, 62839\, United States
CATEGORIES:Community Events
ATTACH;FMTTYPE=image/png:https://florapubliclibrary.org/wp-content/uploads/2023/07/retirement.png
END:VEVENT
BEGIN:VEVENT
DTSTART;TZID=America/Chicago:20230908T100000
DTEND;TZID=America/Chicago:20230908T110000
DTSTAMP:20260422T173138
CREATED:20230828T175454Z
LAST-MODIFIED:20230828T175812Z
UID:10000468-1694167200-1694170800@florapubliclibrary.org
SUMMARY:Mommy & Me
DESCRIPTION:This month our theme is Apples Galore 🍎🍏! \nWe will read Ten Apples Up On Top and Tucker’s Apple Dandy Day\, make an apple-themed craft\, and have playtime! \nFathers and grandparents are also welcome to bring their children. Come and join us for some summer fun! \nRegistration Required
URL:https://florapubliclibrary.org/event/mommy-me/
LOCATION:Flora Public Library\, 216 N. Main St.\, Flora\, IL\, 62839\, United States
CATEGORIES:Community Events
ATTACH;FMTTYPE=image/png:https://florapubliclibrary.org/wp-content/uploads/2023/08/MommyMeEvent.png
END:VEVENT
BEGIN:VEVENT
DTSTART;TZID=America/Chicago:20231013T100000
DTEND;TZID=America/Chicago:20231013T110000
DTSTAMP:20260422T173138
CREATED:20230922T145042Z
LAST-MODIFIED:20230928T143031Z
UID:10000471-1697191200-1697194800@florapubliclibrary.org
SUMMARY:Mommy & Me
DESCRIPTION:Join us at the Library on October 13th from 10am – 11am for a Mommy and Me Story Hour program 📚! \nThis month our theme is Harvest Time 🚜 🌽! \nWe will read “Tractor Mac: Harvest Time” and “Johnny Tractor: The Biggest Pumpkin Ever”\, make a fall windsock\, decorate a paper pumpkin\, and have playtime indoors! \nFathers and grandparents are also welcome to bring their children. Come and join us for some fall harvest fun!
URL:https://florapubliclibrary.org/event/mommy-me-2/
LOCATION:Flora Public Library\, 216 N. Main St.\, Flora\, IL\, 62839\, United States
CATEGORIES:Community Events
ATTACH;FMTTYPE=image/png:https://florapubliclibrary.org/wp-content/uploads/2023/09/MommyMeEvent.png
END:VEVENT
BEGIN:VEVENT
DTSTART;VALUE=DATE:20231020
DTEND;VALUE=DATE:20231021
DTSTAMP:20260422T173138
CREATED:20230922T204616Z
LAST-MODIFIED:20230922T204616Z
UID:10000472-1697760000-1697846399@florapubliclibrary.org
SUMMARY:The Fair Lady
DESCRIPTION:The Fair Lady will be back at the Library on October 20th! Be sure to stop by for shakeups\, donuts\, and more! A percentage of the sales and tips comes back to the Library!
URL:https://florapubliclibrary.org/event/the-fair-lady/
LOCATION:Flora Public Library\, 216 N. Main St.\, Flora\, IL\, 62839\, United States
CATEGORIES:Community Events
ATTACH;FMTTYPE=image/png:https://florapubliclibrary.org/wp-content/uploads/2023/09/Event_FoodTruck_FairLady.png
END:VEVENT
BEGIN:VEVENT
DTSTART;TZID=America/Chicago:20231026T153000
DTEND;TZID=America/Chicago:20231026T173000
DTSTAMP:20260422T173138
CREATED:20230925T120925Z
LAST-MODIFIED:20230925T120925Z
UID:10000475-1698334200-1698341400@florapubliclibrary.org
SUMMARY:Trick or Treat Street
DESCRIPTION:Clay County Health Department’s Trick or Treat Street-Be sure to stop by the Flora Public Library table for some treats at the Clay County Health Dept “Trick or Treat Street” event at the REA Building at Charley Brown Park on October 26th 🎃 🍭!
URL:https://florapubliclibrary.org/event/trick-or-treat-street/
LOCATION:Charley Brown Park\, Flora\, IL\, 62839\, United States
CATEGORIES:Community Events
ATTACH;FMTTYPE=image/png:https://florapubliclibrary.org/wp-content/uploads/2023/09/Events_ClayCounty_TrickorTreat.png
END:VEVENT
BEGIN:VEVENT
DTSTART;TZID=America/Chicago:20231031T180000
DTEND;TZID=America/Chicago:20231031T200000
DTSTAMP:20260422T173138
CREATED:20230925T120630Z
LAST-MODIFIED:20230925T120630Z
UID:10000473-1698775200-1698782400@florapubliclibrary.org
SUMMARY:Halloween
DESCRIPTION:Happy Halloween! \nBe sure to bring your littles to the Library on October 31st from 6pm-8pm for some treats 🍬 👻!
URL:https://florapubliclibrary.org/event/halloween-2/
LOCATION:Flora Public Library\, 216 N. Main St.\, Flora\, IL\, 62839\, United States
CATEGORIES:Community Events
ATTACH;FMTTYPE=image/png:https://florapubliclibrary.org/wp-content/uploads/2023/09/Event_TrickorTreat.png
END:VEVENT
BEGIN:VEVENT
DTSTART;TZID=America/Chicago:20231116T183000
DTEND;TZID=America/Chicago:20231116T200000
DTSTAMP:20260422T173138
CREATED:20231116T154017Z
LAST-MODIFIED:20231116T154301Z
UID:10000478-1700159400-1700164800@florapubliclibrary.org
SUMMARY:FAMILY READING NIGHT
DESCRIPTION:
URL:https://florapubliclibrary.org/event/family-reading-night/
LOCATION:IL
CATEGORIES:Community Events
ATTACH;FMTTYPE=image/png:https://florapubliclibrary.org/wp-content/uploads/2023/11/PAJAMA-PARTY.png
END:VEVENT
BEGIN:VEVENT
DTSTART;TZID=America/Chicago:20231118T130000
DTEND;TZID=America/Chicago:20231118T140000
DTSTAMP:20260422T173138
CREATED:20231116T155156Z
LAST-MODIFIED:20231116T155156Z
UID:10000479-1700312400-1700316000@florapubliclibrary.org
SUMMARY:"THE OWL MAN"
DESCRIPTION:
URL:https://florapubliclibrary.org/event/the-owl-man/
LOCATION:IL
CATEGORIES:Community Events
ATTACH;FMTTYPE=image/png:https://florapubliclibrary.org/wp-content/uploads/2023/11/OWL-MAN-PRESENTATION-2023.png
END:VEVENT
BEGIN:VEVENT
DTSTART;TZID=America/Chicago:20231209T130000
DTEND;TZID=America/Chicago:20231209T143000
DTSTAMP:20260422T173138
CREATED:20231205T222016Z
LAST-MODIFIED:20231205T223537Z
UID:10000480-1702126800-1702132200@florapubliclibrary.org
SUMMARY:Santa Claus is Coming to the Flora Public Library!
DESCRIPTION:
URL:https://florapubliclibrary.org/event/santa-claus-is-coming-to-the-flora-public-library/
LOCATION:IL
CATEGORIES:Community Events
ATTACH;FMTTYPE=image/png:https://florapubliclibrary.org/wp-content/uploads/2023/12/7BB7DE69-0606-4F5B-AE17-AE82D22976CD.png
END:VEVENT
BEGIN:VEVENT
DTSTART;TZID=America/Chicago:20260112T130000
DTEND;TZID=America/Chicago:20260220T180000
DTSTAMP:20260422T173138
CREATED:20260130T213142Z
LAST-MODIFIED:20260130T213142Z
UID:10001417-1768222800-1771610400@florapubliclibrary.org
SUMMARY:Feed the Furry
DESCRIPTION:Flora Public Library in cooperation with Fur-A-Good Paws is sponsoring a pet food drive\, “Feed the Furry” again this year! \nDonations can be dropped off at the Flora Public Library now thru February 20\, 2026 during our open hours.
URL:https://florapubliclibrary.org/event/feed-the-furry/
LOCATION:IL
CATEGORIES:Community Events
ATTACH;FMTTYPE=image/png:https://florapubliclibrary.org/wp-content/uploads/2026/01/feed-the-furry-2026.png
END:VEVENT
END:VCALENDAR