BEGIN:VCALENDAR
VERSION:2.0
PRODID:-//Flora Public Library - ECPv6.13.2.1//NONSGML v1.0//EN
CALSCALE:GREGORIAN
METHOD:PUBLISH
X-ORIGINAL-URL:https://florapubliclibrary.org
X-WR-CALDESC:Events for Flora Public Library
REFRESH-INTERVAL;VALUE=DURATION:PT1H
X-Robots-Tag:noindex
X-PUBLISHED-TTL:PT1H
BEGIN:VTIMEZONE
TZID:America/Chicago
BEGIN:DAYLIGHT
TZOFFSETFROM:-0600
TZOFFSETTO:-0500
TZNAME:CDT
DTSTART:20250309T080000
END:DAYLIGHT
BEGIN:STANDARD
TZOFFSETFROM:-0500
TZOFFSETTO:-0600
TZNAME:CST
DTSTART:20251102T070000
END:STANDARD
END:VTIMEZONE
BEGIN:VEVENT
DTSTART;TZID=America/Chicago:20250605T140000
DTEND;TZID=America/Chicago:20250605T160000
DTSTAMP:20260421T073935
CREATED:20250602T203025Z
LAST-MODIFIED:20250602T203025Z
UID:10000773-1749132000-1749139200@florapubliclibrary.org
SUMMARY:LIVE CARTOON SHOW - MUSEUM & FUN!
DESCRIPTION:Flora Public Library is pleased to announce a new event as part of the 2025 Summer Reading Program\, “Level Up At Your Library.” The Pennington’s Live Cartoon Show Museum and Fun will be in the library’s community room from 2 – 4 pm. There will be cartoons\, giveaways\, and face painting for the children. The show will also feature Dingo the Dog and Bongo the Bear characters. \nAdmission is free. There is no need to have a library card or participate in the summer reading program to attend. Everyone is welcome. Please visit the library this Thursday\, June 5\, at 2 pm to see this wonderful show. \nWhile you’re at the library\, don’t forget to sign up for the 2025 Summer Reading Program\, “Level Up At Your Library.” \n 
URL:https://florapubliclibrary.org/event/live-cartoon-show-museum-fun/
LOCATION:Flora Public Library\, 216 N. Main St.\, Flora\, IL\, 62839\, United States
CATEGORIES:Summer Reading Program
ATTACH;FMTTYPE=image/jpeg:https://florapubliclibrary.org/wp-content/uploads/2025/06/penningtons-cartoon-museum.jpg
END:VEVENT
BEGIN:VEVENT
DTSTART;TZID=America/Chicago:20250619T140000
DTEND;TZID=America/Chicago:20250619T144500
DTSTAMP:20260421T073935
CREATED:20250602T204406Z
LAST-MODIFIED:20250602T231530Z
UID:10000774-1750341600-1750344300@florapubliclibrary.org
SUMMARY:SRP - MAGIC SHOW - 2PM
DESCRIPTION:
URL:https://florapubliclibrary.org/event/srp-magic-show-2pm/
LOCATION:Flora Public Library\, 216 N. Main St.\, Flora\, IL\, 62839\, United States
CATEGORIES:Summer Reading Program
END:VEVENT
BEGIN:VEVENT
DTSTART;TZID=America/Chicago:20250626T150000
DTEND;TZID=America/Chicago:20250626T160000
DTSTAMP:20260421T073935
CREATED:20250602T234141Z
LAST-MODIFIED:20250602T234141Z
UID:10000776-1750950000-1750953600@florapubliclibrary.org
SUMMARY:Babaloo Concert - Music & Fun!
DESCRIPTION:
URL:https://florapubliclibrary.org/event/babaloo-concert-music-fun/
LOCATION:Flora Public Library\, 216 N. Main St.\, Flora\, IL\, 62839\, United States
CATEGORIES:Summer Reading Program
END:VEVENT
END:VCALENDAR