BEGIN:VCALENDAR
VERSION:2.0
PRODID:-//Flora Public Library - ECPv6.13.2.1//NONSGML v1.0//EN
CALSCALE:GREGORIAN
METHOD:PUBLISH
X-WR-CALNAME:Flora Public Library
X-ORIGINAL-URL:https://florapubliclibrary.org
X-WR-CALDESC:Events for Flora Public Library
REFRESH-INTERVAL;VALUE=DURATION:PT1H
X-Robots-Tag:noindex
X-PUBLISHED-TTL:PT1H
BEGIN:VTIMEZONE
TZID:America/Chicago
BEGIN:DAYLIGHT
TZOFFSETFROM:-0600
TZOFFSETTO:-0500
TZNAME:CDT
DTSTART:20260308T080000
END:DAYLIGHT
BEGIN:STANDARD
TZOFFSETFROM:-0500
TZOFFSETTO:-0600
TZNAME:CST
DTSTART:20261101T070000
END:STANDARD
END:VTIMEZONE
BEGIN:VEVENT
DTSTART;VALUE=DATE:20260902
DTEND;VALUE=DATE:20260903
DTSTAMP:20260420T033925
CREATED:20240106T220447Z
LAST-MODIFIED:20260115T210636Z
UID:10001085-1788307200-1788393599@florapubliclibrary.org
SUMMARY:Genealogy Help
DESCRIPTION:
URL:https://florapubliclibrary.org/event/genealogy-help/2026-09-02/
CATEGORIES:Program
ATTACH;FMTTYPE=image/png:https://florapubliclibrary.org/wp-content/uploads/2024/01/Geneaology-Help-1.png
END:VEVENT
BEGIN:VEVENT
DTSTART;VALUE=DATE:20260907
DTEND;VALUE=DATE:20260908
DTSTAMP:20260420T033925
CREATED:20260116T001908Z
LAST-MODIFIED:20260116T001908Z
UID:10001412-1788739200-1788825599@florapubliclibrary.org
SUMMARY:Labor Day
DESCRIPTION:Flora Public Library is closed on Labor Day.
URL:https://florapubliclibrary.org/event/labor-day-2/
CATEGORIES:Holidays
END:VEVENT
BEGIN:VEVENT
DTSTART;VALUE=DATE:20260909
DTEND;VALUE=DATE:20260910
DTSTAMP:20260420T033925
CREATED:20240106T220447Z
LAST-MODIFIED:20260115T210636Z
UID:10001086-1788912000-1788998399@florapubliclibrary.org
SUMMARY:Genealogy Help
DESCRIPTION:
URL:https://florapubliclibrary.org/event/genealogy-help/2026-09-09/
CATEGORIES:Program
ATTACH;FMTTYPE=image/png:https://florapubliclibrary.org/wp-content/uploads/2024/01/Geneaology-Help-1.png
END:VEVENT
BEGIN:VEVENT
DTSTART;VALUE=DATE:20260916
DTEND;VALUE=DATE:20260917
DTSTAMP:20260420T033925
CREATED:20240106T220447Z
LAST-MODIFIED:20260115T210636Z
UID:10001087-1789516800-1789603199@florapubliclibrary.org
SUMMARY:Genealogy Help
DESCRIPTION:
URL:https://florapubliclibrary.org/event/genealogy-help/2026-09-16/
CATEGORIES:Program
ATTACH;FMTTYPE=image/png:https://florapubliclibrary.org/wp-content/uploads/2024/01/Geneaology-Help-1.png
END:VEVENT
BEGIN:VEVENT
DTSTART;VALUE=DATE:20260923
DTEND;VALUE=DATE:20260924
DTSTAMP:20260420T033925
CREATED:20240106T220447Z
LAST-MODIFIED:20260115T210636Z
UID:10001088-1790121600-1790207999@florapubliclibrary.org
SUMMARY:Genealogy Help
DESCRIPTION:
URL:https://florapubliclibrary.org/event/genealogy-help/2026-09-23/
CATEGORIES:Program
ATTACH;FMTTYPE=image/png:https://florapubliclibrary.org/wp-content/uploads/2024/01/Geneaology-Help-1.png
END:VEVENT
BEGIN:VEVENT
DTSTART;VALUE=DATE:20260930
DTEND;VALUE=DATE:20261001
DTSTAMP:20260420T033925
CREATED:20240106T220447Z
LAST-MODIFIED:20260115T210636Z
UID:10001089-1790726400-1790812799@florapubliclibrary.org
SUMMARY:Genealogy Help
DESCRIPTION:
URL:https://florapubliclibrary.org/event/genealogy-help/2026-09-30/
CATEGORIES:Program
ATTACH;FMTTYPE=image/png:https://florapubliclibrary.org/wp-content/uploads/2024/01/Geneaology-Help-1.png
END:VEVENT
END:VCALENDAR