BEGIN:VCALENDAR
VERSION:2.0
PRODID:-//Flora Public Library - ECPv6.13.2.1//NONSGML v1.0//EN
CALSCALE:GREGORIAN
METHOD:PUBLISH
X-WR-CALNAME:Flora Public Library
X-ORIGINAL-URL:https://florapubliclibrary.org
X-WR-CALDESC:Events for Flora Public Library
REFRESH-INTERVAL;VALUE=DURATION:PT1H
X-Robots-Tag:noindex
X-PUBLISHED-TTL:PT1H
BEGIN:VTIMEZONE
TZID:America/Chicago
BEGIN:DAYLIGHT
TZOFFSETFROM:-0600
TZOFFSETTO:-0500
TZNAME:CDT
DTSTART:20260308T080000
END:DAYLIGHT
BEGIN:STANDARD
TZOFFSETFROM:-0500
TZOFFSETTO:-0600
TZNAME:CST
DTSTART:20261101T070000
END:STANDARD
END:VTIMEZONE
BEGIN:VEVENT
DTSTART;VALUE=DATE:20261007
DTEND;VALUE=DATE:20261008
DTSTAMP:20260420T045929
CREATED:20240106T220447Z
LAST-MODIFIED:20260115T210636Z
UID:10001090-1791331200-1791417599@florapubliclibrary.org
SUMMARY:Genealogy Help
DESCRIPTION:
URL:https://florapubliclibrary.org/event/genealogy-help/2026-10-07/
CATEGORIES:Program
ATTACH;FMTTYPE=image/png:https://florapubliclibrary.org/wp-content/uploads/2024/01/Geneaology-Help-1.png
END:VEVENT
BEGIN:VEVENT
DTSTART;VALUE=DATE:20261014
DTEND;VALUE=DATE:20261015
DTSTAMP:20260420T045929
CREATED:20240106T220447Z
LAST-MODIFIED:20260115T210636Z
UID:10001091-1791936000-1792022399@florapubliclibrary.org
SUMMARY:Genealogy Help
DESCRIPTION:
URL:https://florapubliclibrary.org/event/genealogy-help/2026-10-14/
CATEGORIES:Program
ATTACH;FMTTYPE=image/png:https://florapubliclibrary.org/wp-content/uploads/2024/01/Geneaology-Help-1.png
END:VEVENT
BEGIN:VEVENT
DTSTART;VALUE=DATE:20261021
DTEND;VALUE=DATE:20261022
DTSTAMP:20260420T045929
CREATED:20240106T220447Z
LAST-MODIFIED:20260115T210636Z
UID:10001092-1792540800-1792627199@florapubliclibrary.org
SUMMARY:Genealogy Help
DESCRIPTION:
URL:https://florapubliclibrary.org/event/genealogy-help/2026-10-21/
CATEGORIES:Program
ATTACH;FMTTYPE=image/png:https://florapubliclibrary.org/wp-content/uploads/2024/01/Geneaology-Help-1.png
END:VEVENT
BEGIN:VEVENT
DTSTART;VALUE=DATE:20261028
DTEND;VALUE=DATE:20261029
DTSTAMP:20260420T045929
CREATED:20240106T220447Z
LAST-MODIFIED:20260115T210636Z
UID:10001093-1793145600-1793231999@florapubliclibrary.org
SUMMARY:Genealogy Help
DESCRIPTION:
URL:https://florapubliclibrary.org/event/genealogy-help/2026-10-28/
CATEGORIES:Program
ATTACH;FMTTYPE=image/png:https://florapubliclibrary.org/wp-content/uploads/2024/01/Geneaology-Help-1.png
END:VEVENT
END:VCALENDAR