BEGIN:VCALENDAR
VERSION:2.0
PRODID:-//Flora Public Library - ECPv6.13.2.1//NONSGML v1.0//EN
CALSCALE:GREGORIAN
METHOD:PUBLISH
X-ORIGINAL-URL:https://florapubliclibrary.org
X-WR-CALDESC:Events for Flora Public Library
REFRESH-INTERVAL;VALUE=DURATION:PT1H
X-Robots-Tag:noindex
X-PUBLISHED-TTL:PT1H
BEGIN:VTIMEZONE
TZID:America/Chicago
BEGIN:DAYLIGHT
TZOFFSETFROM:-0600
TZOFFSETTO:-0500
TZNAME:CDT
DTSTART:20260308T080000
END:DAYLIGHT
BEGIN:STANDARD
TZOFFSETFROM:-0500
TZOFFSETTO:-0600
TZNAME:CST
DTSTART:20261101T070000
END:STANDARD
END:VTIMEZONE
BEGIN:VEVENT
DTSTART;VALUE=DATE:20261202
DTEND;VALUE=DATE:20261203
DTSTAMP:20260420T080227
CREATED:20240106T220447Z
LAST-MODIFIED:20260115T210636Z
UID:10001098-1796169600-1796255999@florapubliclibrary.org
SUMMARY:Genealogy Help
DESCRIPTION:
URL:https://florapubliclibrary.org/event/genealogy-help/2026-12-02/
CATEGORIES:Program
ATTACH;FMTTYPE=image/png:https://florapubliclibrary.org/wp-content/uploads/2024/01/Geneaology-Help-1.png
END:VEVENT
BEGIN:VEVENT
DTSTART;VALUE=DATE:20261209
DTEND;VALUE=DATE:20261210
DTSTAMP:20260420T080227
CREATED:20240106T220447Z
LAST-MODIFIED:20260115T210636Z
UID:10001099-1796774400-1796860799@florapubliclibrary.org
SUMMARY:Genealogy Help
DESCRIPTION:
URL:https://florapubliclibrary.org/event/genealogy-help/2026-12-09/
CATEGORIES:Program
ATTACH;FMTTYPE=image/png:https://florapubliclibrary.org/wp-content/uploads/2024/01/Geneaology-Help-1.png
END:VEVENT
BEGIN:VEVENT
DTSTART;VALUE=DATE:20261216
DTEND;VALUE=DATE:20261217
DTSTAMP:20260420T080227
CREATED:20240106T220447Z
LAST-MODIFIED:20260115T210636Z
UID:10001100-1797379200-1797465599@florapubliclibrary.org
SUMMARY:Genealogy Help
DESCRIPTION:
URL:https://florapubliclibrary.org/event/genealogy-help/2026-12-16/
CATEGORIES:Program
ATTACH;FMTTYPE=image/png:https://florapubliclibrary.org/wp-content/uploads/2024/01/Geneaology-Help-1.png
END:VEVENT
BEGIN:VEVENT
DTSTART;VALUE=DATE:20261223
DTEND;VALUE=DATE:20261224
DTSTAMP:20260420T080227
CREATED:20240106T220447Z
LAST-MODIFIED:20260115T210636Z
UID:10001101-1797984000-1798070399@florapubliclibrary.org
SUMMARY:Genealogy Help
DESCRIPTION:
URL:https://florapubliclibrary.org/event/genealogy-help/2026-12-23/
CATEGORIES:Program
ATTACH;FMTTYPE=image/png:https://florapubliclibrary.org/wp-content/uploads/2024/01/Geneaology-Help-1.png
END:VEVENT
BEGIN:VEVENT
DTSTART;VALUE=DATE:20261224
DTEND;VALUE=DATE:20261226
DTSTAMP:20260420T080227
CREATED:20260116T004043Z
LAST-MODIFIED:20260116T004043Z
UID:10001415-1798070400-1798243199@florapubliclibrary.org
SUMMARY:Christmas Eve & Christmas Day
DESCRIPTION:Flora Public Library is closed Christmas Eve & Christmas Day.
URL:https://florapubliclibrary.org/event/christmas-eve-christmas-day/
CATEGORIES:Holidays
END:VEVENT
BEGIN:VEVENT
DTSTART;VALUE=DATE:20261230
DTEND;VALUE=DATE:20261231
DTSTAMP:20260420T080227
CREATED:20240106T220447Z
LAST-MODIFIED:20260115T210636Z
UID:10001102-1798588800-1798675199@florapubliclibrary.org
SUMMARY:Genealogy Help
DESCRIPTION:
URL:https://florapubliclibrary.org/event/genealogy-help/2026-12-30/
CATEGORIES:Program
ATTACH;FMTTYPE=image/png:https://florapubliclibrary.org/wp-content/uploads/2024/01/Geneaology-Help-1.png
END:VEVENT
BEGIN:VEVENT
DTSTART;VALUE=DATE:20261231
DTEND;VALUE=DATE:20270101
DTSTAMP:20260420T080227
CREATED:20260116T004450Z
LAST-MODIFIED:20260116T004450Z
UID:10001416-1798675200-1798761599@florapubliclibrary.org
SUMMARY:New Year's Eve
DESCRIPTION:Flora Public Library is closed on New Year’s Eve.
URL:https://florapubliclibrary.org/event/new-years-eve-2/
CATEGORIES:Holidays
END:VEVENT
END:VCALENDAR