BEGIN:VCALENDAR
VERSION:2.0
PRODID:-//Flora Public Library - ECPv6.13.2.1//NONSGML v1.0//EN
CALSCALE:GREGORIAN
METHOD:PUBLISH
X-WR-CALNAME:Flora Public Library
X-ORIGINAL-URL:https://florapubliclibrary.org
X-WR-CALDESC:Events for Flora Public Library
REFRESH-INTERVAL;VALUE=DURATION:PT1H
X-Robots-Tag:noindex
X-PUBLISHED-TTL:PT1H
BEGIN:VTIMEZONE
TZID:America/Chicago
BEGIN:DAYLIGHT
TZOFFSETFROM:-0600
TZOFFSETTO:-0500
TZNAME:CDT
DTSTART:20270314T080000
END:DAYLIGHT
BEGIN:STANDARD
TZOFFSETFROM:-0500
TZOFFSETTO:-0600
TZNAME:CST
DTSTART:20271107T070000
END:STANDARD
END:VTIMEZONE
BEGIN:VEVENT
DTSTART;VALUE=DATE:20270106
DTEND;VALUE=DATE:20270107
DTSTAMP:20260420T092344
CREATED:20240106T220447Z
LAST-MODIFIED:20260115T210636Z
UID:10001103-1799193600-1799279999@florapubliclibrary.org
SUMMARY:Genealogy Help
DESCRIPTION:
URL:https://florapubliclibrary.org/event/genealogy-help/2027-01-06/
CATEGORIES:Program
ATTACH;FMTTYPE=image/png:https://florapubliclibrary.org/wp-content/uploads/2024/01/Geneaology-Help-1.png
END:VEVENT
BEGIN:VEVENT
DTSTART;VALUE=DATE:20270113
DTEND;VALUE=DATE:20270114
DTSTAMP:20260420T092344
CREATED:20240106T220447Z
LAST-MODIFIED:20260115T210636Z
UID:10001104-1799798400-1799884799@florapubliclibrary.org
SUMMARY:Genealogy Help
DESCRIPTION:
URL:https://florapubliclibrary.org/event/genealogy-help/2027-01-13/
CATEGORIES:Program
ATTACH;FMTTYPE=image/png:https://florapubliclibrary.org/wp-content/uploads/2024/01/Geneaology-Help-1.png
END:VEVENT
BEGIN:VEVENT
DTSTART;VALUE=DATE:20270120
DTEND;VALUE=DATE:20270121
DTSTAMP:20260420T092344
CREATED:20240106T220447Z
LAST-MODIFIED:20260115T210636Z
UID:10001105-1800403200-1800489599@florapubliclibrary.org
SUMMARY:Genealogy Help
DESCRIPTION:
URL:https://florapubliclibrary.org/event/genealogy-help/2027-01-20/
CATEGORIES:Program
ATTACH;FMTTYPE=image/png:https://florapubliclibrary.org/wp-content/uploads/2024/01/Geneaology-Help-1.png
END:VEVENT
BEGIN:VEVENT
DTSTART;VALUE=DATE:20270127
DTEND;VALUE=DATE:20270128
DTSTAMP:20260420T092344
CREATED:20240106T220447Z
LAST-MODIFIED:20260115T210636Z
UID:10001106-1801008000-1801094399@florapubliclibrary.org
SUMMARY:Genealogy Help
DESCRIPTION:
URL:https://florapubliclibrary.org/event/genealogy-help/2027-01-27/
CATEGORIES:Program
ATTACH;FMTTYPE=image/png:https://florapubliclibrary.org/wp-content/uploads/2024/01/Geneaology-Help-1.png
END:VEVENT
END:VCALENDAR